BEGIN:VCALENDAR
VERSION:2.0
PRODID:-//J World Sailing - ECPv6.15.17.1//NONSGML v1.0//EN
CALSCALE:GREGORIAN
METHOD:PUBLISH
X-WR-CALNAME:J World Sailing
X-ORIGINAL-URL:https://sailing-jworld.com
X-WR-CALDESC:Events for J World Sailing
REFRESH-INTERVAL;VALUE=DURATION:PT1H
X-Robots-Tag:noindex
X-PUBLISHED-TTL:PT1H
BEGIN:VTIMEZONE
TZID:America/Los_Angeles
BEGIN:DAYLIGHT
TZOFFSETFROM:-0800
TZOFFSETTO:-0700
TZNAME:PDT
DTSTART:20230312T100000
END:DAYLIGHT
BEGIN:STANDARD
TZOFFSETFROM:-0700
TZOFFSETTO:-0800
TZNAME:PST
DTSTART:20231105T090000
END:STANDARD
BEGIN:DAYLIGHT
TZOFFSETFROM:-0800
TZOFFSETTO:-0700
TZNAME:PDT
DTSTART:20240310T100000
END:DAYLIGHT
BEGIN:STANDARD
TZOFFSETFROM:-0700
TZOFFSETTO:-0800
TZNAME:PST
DTSTART:20241103T090000
END:STANDARD
BEGIN:DAYLIGHT
TZOFFSETFROM:-0800
TZOFFSETTO:-0700
TZNAME:PDT
DTSTART:20250309T100000
END:DAYLIGHT
BEGIN:STANDARD
TZOFFSETFROM:-0700
TZOFFSETTO:-0800
TZNAME:PST
DTSTART:20251102T090000
END:STANDARD
END:VTIMEZONE
BEGIN:VEVENT
DTSTART;VALUE=DATE:20240203
DTEND;VALUE=DATE:20240205
DTSTAMP:20260419T220925
CREATED:20200117T200916Z
LAST-MODIFIED:20231116T044153Z
UID:4729-1706918400-1707091199@sailing-jworld.com
SUMMARY:Performance Cruising (weekend 2) - SD
DESCRIPTION:Join us for Performance Cruising in San Diego! This is for sailors who have experience in smaller boats and a working understanding of the basics of sail trim and boat handling. This course 4-day (2 weeeknd) course builds the skills necessary for handling a boat in a wider range of conditions and with a higher degree of control and efficiency. If you choose it can also be used to obtain your US Sailing Basic Cruising Certification.
URL:https://sailing-jworld.com/event/performance-cruising-sd-2/
LOCATION:J/World San Diego\, 2240 Shelter Island Drive #202\, San Deigo\, CA\, 92106\, United States
CATEGORIES:Learn to Sail
ATTACH;FMTTYPE=image/jpeg:https://sailing-jworld.com/wp-content/uploads/2014/12/PC.jpg
END:VEVENT
END:VCALENDAR