BEGIN:VCALENDAR
VERSION:2.0
PRODID:-//J World Sailing - ECPv6.15.17.1//NONSGML v1.0//EN
CALSCALE:GREGORIAN
METHOD:PUBLISH
X-ORIGINAL-URL:https://sailing-jworld.com
X-WR-CALDESC:Events for J World Sailing
REFRESH-INTERVAL;VALUE=DURATION:PT1H
X-Robots-Tag:noindex
X-PUBLISHED-TTL:PT1H
BEGIN:VTIMEZONE
TZID:UTC
BEGIN:STANDARD
TZOFFSETFROM:+0000
TZOFFSETTO:+0000
TZNAME:UTC
DTSTART:20230101T000000
END:STANDARD
END:VTIMEZONE
BEGIN:VEVENT
DTSTART;TZID=UTC:20240119T093000
DTEND;TZID=UTC:20240121T170000
DTSTAMP:20260419T220315
CREATED:20180125T075925Z
LAST-MODIFIED:20240104T030527Z
UID:3960-1705656600-1705856400@sailing-jworld.com
SUMMARY:J/105 Racing Clinic - SD FULL
DESCRIPTION:Each year\, J/World Performance Sailing School hosts special keelboat racing clinics aboard one-design J/105s.  The intensive format is targeted at getting skippers and crews up to speed. Take 3-days in San Diego and prepare to up your game!
URL:https://sailing-jworld.com/event/j-105-racing-clinic/
LOCATION:J/World San Diego\, 2240 Shelter Island Drive #202\, San Deigo\, CA\, 92106\, United States
ATTACH;FMTTYPE=image/jpeg:https://sailing-jworld.com/wp-content/uploads/2014/12/J-World-15.jpg
END:VEVENT
END:VCALENDAR